BEGIN:VCALENDAR
VERSION:2.0
PRODID:-//Maison de la Chataîgne - ECPv5.10.0//NONSGML v1.0//EN
CALSCALE:GREGORIAN
METHOD:PUBLISH
X-WR-CALNAME:Maison de la Chataîgne
X-ORIGINAL-URL:https://maisondelachataigne.com
X-WR-CALDESC:évènements pour Maison de la Chataîgne
BEGIN:VTIMEZONE
TZID:Europe/Paris
BEGIN:DAYLIGHT
TZOFFSETFROM:+0100
TZOFFSETTO:+0200
TZNAME:CEST
DTSTART:20210328T010000
END:DAYLIGHT
BEGIN:STANDARD
TZOFFSETFROM:+0200
TZOFFSETTO:+0100
TZNAME:CET
DTSTART:20211031T010000
END:STANDARD
END:VTIMEZONE
BEGIN:VEVENT
DTSTART;TZID=Europe/Paris:20211030T140000
DTEND;TZID=Europe/Paris:20211030T170000
DTSTAMP:20260425T230815
CREATED:20211010T211431Z
LAST-MODIFIED:20211010T212003Z
UID:1944-1635602400-1635613200@maisondelachataigne.com
SUMMARY:Atelier confiture 2021
DESCRIPTION:A 14 h\, à la Maison de la châtaigne\, animé par Joseph LABRUNIE\, un atelier « confiture ». \nUn échange de pratiques sur la conservation et la transformation du fruit « châtaigne »ou « marron ». \nUne recette et réalisation-démonstration sur place : épluchage + cuisson + sirop + re-cuisson et mise en pot. \nUn groupe de 8 personnes maxi. S’inscrire SVP au 06 75 55 52 24
URL:https://maisondelachataigne.com/evenements/atelier-confiture-2021-30-oct/
LOCATION:Mourjou\, Maison de la Chataîgne\, Mourjou\, 15340\, France
ORGANIZER;CN="Maison%20de%20la%20ch%C3%A2taigne":MAILTO:maisondelachataigne@gmail.com
END:VEVENT
END:VCALENDAR