BEGIN:VCALENDAR
VERSION:2.0
PRODID:-//Maison de la Chataîgne - ECPv5.10.0//NONSGML v1.0//EN
CALSCALE:GREGORIAN
METHOD:PUBLISH
X-WR-CALNAME:Maison de la Chataîgne
X-ORIGINAL-URL:https://maisondelachataigne.com
X-WR-CALDESC:évènements pour Maison de la Chataîgne
BEGIN:VTIMEZONE
TZID:Europe/Paris
BEGIN:DAYLIGHT
TZOFFSETFROM:+0100
TZOFFSETTO:+0200
TZNAME:CEST
DTSTART:20200329T010000
END:DAYLIGHT
BEGIN:STANDARD
TZOFFSETFROM:+0200
TZOFFSETTO:+0100
TZNAME:CET
DTSTART:20201025T010000
END:STANDARD
END:VTIMEZONE
BEGIN:VEVENT
DTSTART;TZID=Europe/Paris:20200512T140000
DTEND;TZID=Europe/Paris:20200512T140000
DTSTAMP:20260426T030159
CREATED:20200427T200707Z
LAST-MODIFIED:20200507T194128Z
UID:1814-1589292000-1589292000@maisondelachataigne.com
SUMMARY:Sortie prudente du confinement - Ouverture
DESCRIPTION:Sortie du confinement \n« Ouverture de la Maison de la châtaigne à Mourjou : \nDans le cadre du dé-confinement avec prudence\, la Maison de la châtaigne\, écomusée de la Châtaigneraie cantalienne\, ouvre à compter du mardi 12 mai\, de 14 h à 18 h\, sauf les lundi.\n \nUn protocole d’accueil définit les contraintes liées au Covid-19 (désinfection\, distanciation\, gestes barrière\, gel hydroalcoolique…). Les bâtiments et le site sont propices à des visites en boucle\, sans croiser d’autres visiteurs. Leur nombre sera limité à 10 dans les bâtiments. En sus : la boutique avec le produit phare : farine de châtaigne « made in Mourjou »\, châtaignes locales séchées au sécadou de la Maison\, le sentier de découverte « trésors du Haut Célé »… et tout le parc de 2 hectares avec ses jardins et pépinières ; germinations et greffes sont merveilleuses cette année !\n \nLa labellisation du vieux châtaignier de 500 ans comme « arbre remarquable de France » prévue le 9 avril est reportée au 6 octobre. \nTél. 04 71 49 98 00 et maisondelachataigne.com » \nN’hésitez pas à téléphoner au préalable. Merci
URL:https://maisondelachataigne.com/evenements/sortie-du-confinement/
LOCATION:Mourjou\, Maison de la Chataîgne\, Mourjou\, 15340\, France
ORGANIZER;CN="Maison%20de%20la%20ch%C3%A2taigne":MAILTO:maisondelachataigne@gmail.com
END:VEVENT
END:VCALENDAR